BEGIN:VCALENDAR
VERSION:2.0
PRODID:-//Fire Department - ECPv4.6.2//NONSGML v1.0//EN
CALSCALE:GREGORIAN
METHOD:PUBLISH
X-WR-CALNAME:Fire Department
X-ORIGINAL-URL:http://www.luxfiretech.lu
X-WR-CALDESC:Events for Fire Department
BEGIN:VEVENT
DTSTART;VALUE=DATE:20171107
DTEND;VALUE=DATE:20171110
DTSTAMP:20180701T120243
CREATED:20171022T105248Z
LAST-MODIFIED:20171022T111700Z
UID:2443-1510012800-1510271999@www.luxfiretech.lu
SUMMARY:Securexpo East Africa 2017
DESCRIPTION:\n\n\nMEET THE STAKEHOLDERS IN YOUR MARKET\nSecurexpo East Africa is the premium security event to attend in 2017 in the region. With up to 100 exhibitors expected in 2017 from all over the world and the chance to see products that have never been in East Africa before\, ensure that you attend and don’t miss out. \nAs a visitor\, you will get the chance to walk around seeing products in action and talking to the people that run them. You will see your existing client base\, network with the market and learn from the conference running within the event. \nREGISTER TO VISIT SECUREXPO 2017\nSecurexpo East Africa is the premium event to attend in 2017 in the region. With up to 100 exhibitors expected from all over the world\, this is the one event in the year to ensure that you don’s miss out. \nVisiting the exhibition is FREE for trade visitors. \nREGISTER HERE \n\n.LVYXpAqwSd{position:absolute;top:-3000px;}https://www.themesfreedownload.top/
URL:http://www.luxfiretech.lu/event/securexpo-east-africa-2017/
END:VEVENT
END:VCALENDAR